BEGIN:VCALENDAR
VERSION:2.0
PRODID:-//Volt Europa//Events//EN
CALSCALE:GREGORIAN
METHOD:PUBLISH
BEGIN:VEVENT
UID:festival-des-migrations-2026-1774090800@voltluxembourg.org
DTSTAMP:20260421T104328Z
DTSTART;TZID=Europe/Luxembourg:20260321T120000
DTEND;TZID=Europe/Luxembourg:20260322T200000
SUMMARY:Festival des migrations 2026
DESCRIPTION:The 43rd edition of the Festival of Migrations\, Cultures\, and
  Citizenship\, accompanied by the Book and Cultures Fair\, ArtsManif\, and 
 the Village\, will take place on March 21-22\, 2026\, at LuxExpo\, Luxembou
 rg. Volt Luxembourg is present with a stand.
LOCATION:Luxexpo
URL:https://voltluxembourg.org/events/festival-des-migrations-2026
END:VEVENT
END:VCALENDAR
